BEGIN:VCALENDAR
VERSION:2.0
PRODID:-//Plone.org//NONSGML plone.app.event//EN
X-WR-TIMEZONE:Europe/Berlin
BEGIN:VEVENT
SUMMARY:Promotion und dann? Wissenschaft oder Wirtschaft – Karrierewege 
 in den Geistes- und Sozialwissenschaften
DTSTART;TZID=Europe/Berlin:20171130T090000
DTEND;TZID=Europe/Berlin:20171130T170000
DTSTAMP:20260425T091612Z
UID:38420e5fa94e492a87964f813eb43b1b@www.uni-marburg.de
ATTENDEE;CN="Prof. Dr. Heike Kahlert, www.heike-kahlert.de";ROLE=REQ-PARTI
 CIPANT:Prof. Dr. Heike Kahlert, www.heike-kahlert.de
CREATED:20191021T154255Z
DESCRIPTION:https://www.uni-marburg.de/de/mara/aktuelles-mara/events/2017/
 programm-geistes-und-sozialwissenschaften/promotion-und-dann-wissenschaft-
 oder-wirtschaft-karrierewege-in-den-geistes-und-sozialwissenschaften\n
LAST-MODIFIED:20191021T154925Z
LOCATION:Philipps-Universität Marburg\, MARA\, F|05\, Deutschhausstraße 
 11+13\, 1. OG\, Seminarraum 01.0030
URL:https://www.uni-marburg.de/de/mara/aktuelles-mara/events/2017/programm
 -geistes-und-sozialwissenschaften/promotion-und-dann-wissenschaft-oder-wir
 tschaft-karrierewege-in-den-geistes-und-sozialwissenschaften
END:VEVENT
BEGIN:VTIMEZONE
TZID:Europe/Berlin
X-LIC-LOCATION:Europe/Berlin
BEGIN:STANDARD
DTSTART:20171029T020000
TZNAME:CET
TZOFFSETFROM:+0200
TZOFFSETTO:+0100
END:STANDARD
END:VTIMEZONE
END:VCALENDAR
