BEGIN:VCALENDAR
VERSION:2.0
PRODID:-//Plone.org//NONSGML plone.app.event//EN
X-WR-TIMEZONE:Europe/Berlin
BEGIN:VEVENT
SUMMARY:Schreibwerkstatt – Qualitative Forschungsergebnisse strukturiere
 n und präsentieren
DTSTART;TZID=Europe/Berlin:20170310T090000
DTEND;TZID=Europe/Berlin:20170311T170000
DTSTAMP:20260426T010942Z
UID:525b442a55514910ab39595d043cecad@www.uni-marburg.de
ATTENDEE;CN="Dr. Anna Brake";ROLE=REQ-PARTICIPANT:Dr. Anna Brake
CREATED:20190613T094737Z
DESCRIPTION:https://www.uni-marburg.de/de/mara/aktuelles-mara/events/2017/
 programm-geistes-und-sozialwissenschaften/schreibwerkstatt-qualitative-for
 schungsergebnisse-strukturieren-und-praesentieren\n
LAST-MODIFIED:20190613T095131Z
LOCATION:Philipps-Universität Marburg\, MARA\, F|05\, Deutschhausstraße 
 11+13\, 1. OG\, Seminarraum 01.0010
URL:https://www.uni-marburg.de/de/mara/aktuelles-mara/events/2017/programm
 -geistes-und-sozialwissenschaften/schreibwerkstatt-qualitative-forschungse
 rgebnisse-strukturieren-und-praesentieren
END:VEVENT
BEGIN:VTIMEZONE
TZID:Europe/Berlin
X-LIC-LOCATION:Europe/Berlin
BEGIN:STANDARD
DTSTART:20161030T020000
TZNAME:CET
TZOFFSETFROM:+0200
TZOFFSETTO:+0100
END:STANDARD
END:VTIMEZONE
END:VCALENDAR
