BEGIN:VCALENDAR
VERSION:2.0
PRODID:-//Plone.org//NONSGML plone.app.event//EN
X-WR-TIMEZONE:Europe/Berlin
BEGIN:VEVENT
SUMMARY:Schreibwerkstatt – Richtig zitieren in den Geistes- und Sozialwi
 ssenschaften
DTSTART;TZID=Europe/Berlin:20170211T103000
DTEND;TZID=Europe/Berlin:20170211T143000
DTSTAMP:20260425T222213Z
UID:82839259d49e4e7d8e257e590caa8b0b@www.uni-marburg.de
ATTENDEE;CN="Dorothee Emsel";ROLE=REQ-PARTICIPANT:Dorothee Emsel
CREATED:20190425T134612Z
DESCRIPTION:https://www.uni-marburg.de/de/mara/aktuelles-mara/events/2017/
 programm-geistes-und-sozialwissenschaften/schreibwerkstatt-richtig-zitiere
 n-in-den-geistes-und-sozialwissenschaften\n
LAST-MODIFIED:20190425T134910Z
LOCATION:Philipps-Universität Marburg\, MARA\, F|05\, Deutschhausstraße 
 11+13\, 1. OG\, Seminarraum 01.0010
URL:https://www.uni-marburg.de/de/mara/aktuelles-mara/events/2017/programm
 -geistes-und-sozialwissenschaften/schreibwerkstatt-richtig-zitieren-in-den
 -geistes-und-sozialwissenschaften
END:VEVENT
BEGIN:VTIMEZONE
TZID:Europe/Berlin
X-LIC-LOCATION:Europe/Berlin
BEGIN:STANDARD
DTSTART:20161030T020000
TZNAME:CET
TZOFFSETFROM:+0200
TZOFFSETTO:+0100
END:STANDARD
END:VTIMEZONE
END:VCALENDAR
