BEGIN:VCALENDAR
VERSION:2.0
PRODID:-//Plone.org//NONSGML plone.app.event//EN
X-WR-TIMEZONE:Europe/Berlin
BEGIN:VEVENT
SUMMARY:Schreibwerkstatt – Überblicksworkshop: Vom Entwurf bis zum Einr
 eichen der Dissertation
DTSTART;TZID=Europe/Berlin:20171127T103000
DTEND;TZID=Europe/Berlin:20171128T163000
DTSTAMP:20260424T174933Z
UID:3550155a325e4ec690804ac740a0479e@www.uni-marburg.de
ATTENDEE;CN="Dr. Melanie Brinkschulte";ROLE=REQ-PARTICIPANT:Dr. Melanie Br
 inkschulte
CREATED:20191021T145048Z
DESCRIPTION:https://www.uni-marburg.de/de/mara/aktuelles-mara/events/2017/
 programm-geistes-und-sozialwissenschaften/schreibwerkstatt-ueberblickswork
 shop-vom-entwurf-bis-zum-einreichen-der-dissertation\n
LAST-MODIFIED:20191021T145323Z
LOCATION:Philipps-Universität Marburg\, MARA\, F|05\, Deutschhausstraße 
 11+13\, 1. OG\, Seminarraum 01.0030
URL:https://www.uni-marburg.de/de/mara/aktuelles-mara/events/2017/programm
 -geistes-und-sozialwissenschaften/schreibwerkstatt-ueberblicksworkshop-vom
 -entwurf-bis-zum-einreichen-der-dissertation
END:VEVENT
BEGIN:VTIMEZONE
TZID:Europe/Berlin
X-LIC-LOCATION:Europe/Berlin
BEGIN:STANDARD
DTSTART:20171029T020000
TZNAME:CET
TZOFFSETFROM:+0200
TZOFFSETTO:+0100
END:STANDARD
END:VTIMEZONE
END:VCALENDAR
