BEGIN:VCALENDAR
VERSION:2.0
PRODID:-//Plone.org//NONSGML plone.app.event//EN
X-WR-TIMEZONE:Europe/Berlin
BEGIN:VEVENT
SUMMARY:Schreibwerkstatt – Veröffentlichen in Deutschland in den Geiste
 s- und Sozialwissenschaften
DTSTART;TZID=Europe/Berlin:20170706T090000
DTEND;TZID=Europe/Berlin:20170706T130000
DTSTAMP:20260426T010129Z
UID:63dc4ec21abb4ea08193358c8b902ef4@www.uni-marburg.de
ATTENDEE;CN="Ina Beneke, Norman Rinkenberger";ROLE=REQ-PARTICIPANT:Ina Ben
 eke, Norman Rinkenberger
CREATED:20190821T164703Z
DESCRIPTION:https://www.uni-marburg.de/de/mara/aktuelles-mara/events/2017/
 programm-geistes-und-sozialwissenschaften/schreibwerkstatt-veroeffentliche
 n-in-deutschland-in-den-geistes-und-sozialwissenschaften-1\n
LAST-MODIFIED:20190821T165242Z
LOCATION:Philipps-Universität Marburg\, MARA\, F|05\, Deutschhausstraße 
 11+13\, 1. OG\, Seminarraum 01.0020
URL:https://www.uni-marburg.de/de/mara/aktuelles-mara/events/2017/programm
 -geistes-und-sozialwissenschaften/schreibwerkstatt-veroeffentlichen-in-deu
 tschland-in-den-geistes-und-sozialwissenschaften-1
END:VEVENT
BEGIN:VTIMEZONE
TZID:Europe/Berlin
X-LIC-LOCATION:Europe/Berlin
BEGIN:DAYLIGHT
DTSTART:20170326T030000
TZNAME:CEST
TZOFFSETFROM:+0100
TZOFFSETTO:+0200
END:DAYLIGHT
END:VTIMEZONE
END:VCALENDAR
