BEGIN:VCALENDAR
VERSION:2.0
PRODID:-//Plone.org//NONSGML plone.app.event//EN
X-WR-TIMEZONE:Europe/Berlin
BEGIN:VEVENT
SUMMARY:Schreibwerkstatt – Von Abstract bis Rezension: Textsorten in den
  Geistes- und Sozialwissenschaften
DTSTART;TZID=Europe/Berlin:20171124T090000
DTEND;TZID=Europe/Berlin:20171124T130000
DTSTAMP:20260425T145533Z
UID:73a7ec924a09439a9989ea98a8d1db83@www.uni-marburg.de
ATTENDEE;CN="Dr. Sylvia Langwald";ROLE=REQ-PARTICIPANT:Dr. Sylvia Langwald
CREATED:20191021T143824Z
DESCRIPTION:https://www.uni-marburg.de/de/mara/aktuelles-mara/events/2017/
 programm-geistes-und-sozialwissenschaften/schreibwerkstatt-von-abstract-bi
 s-rezension-textsorten-in-den-geistes-und-sozialwissenschaften\n
LAST-MODIFIED:20191021T144234Z
LOCATION:Philipps-Universität Marburg\, MARA\, F|05\, Deutschhausstraße 
 11+13\, 1. OG\, Seminarraum 01.0030
URL:https://www.uni-marburg.de/de/mara/aktuelles-mara/events/2017/programm
 -geistes-und-sozialwissenschaften/schreibwerkstatt-von-abstract-bis-rezens
 ion-textsorten-in-den-geistes-und-sozialwissenschaften
END:VEVENT
BEGIN:VTIMEZONE
TZID:Europe/Berlin
X-LIC-LOCATION:Europe/Berlin
BEGIN:STANDARD
DTSTART:20171029T020000
TZNAME:CET
TZOFFSETFROM:+0200
TZOFFSETTO:+0100
END:STANDARD
END:VTIMEZONE
END:VCALENDAR
