BEGIN:VCALENDAR
VERSION:2.0
PRODID:-//Plone.org//NONSGML plone.app.event//EN
X-WR-TIMEZONE:Europe/Berlin
BEGIN:VEVENT
SUMMARY:Schreibwerkstatt – Wissenschaftlicher Stil in den Geistes- und S
 ozialwissenschaften
DTSTART;TZID=Europe/Berlin:20171014T090000
DTEND;TZID=Europe/Berlin:20171014T130000
DTSTAMP:20260425T175419Z
UID:d2fbb5aa1a13428e954edf2ea707a3a0@www.uni-marburg.de
ATTENDEE;CN="Dr. Monika Rapp, www.german-for-professionals.com";ROLE=REQ-P
 ARTICIPANT:Dr. Monika Rapp, www.german-for-professionals.com
CREATED:20190828T191340Z
DESCRIPTION:https://www.uni-marburg.de/de/mara/aktuelles-mara/events/2017/
 programm-geistes-und-sozialwissenschaften/schreibwerkstatt-wissenschaftlic
 her-stil-in-den-geistes-und-sozialwissenschaften\n
LAST-MODIFIED:20190828T191659Z
LOCATION:Philipps-Universität Marburg\, MARA\, F|05\, Deutschhausstraße 
 11+13\, 1. OG\, Seminarraum 01.0030
URL:https://www.uni-marburg.de/de/mara/aktuelles-mara/events/2017/programm
 -geistes-und-sozialwissenschaften/schreibwerkstatt-wissenschaftlicher-stil
 -in-den-geistes-und-sozialwissenschaften
END:VEVENT
BEGIN:VTIMEZONE
TZID:Europe/Berlin
X-LIC-LOCATION:Europe/Berlin
BEGIN:DAYLIGHT
DTSTART:20170326T030000
TZNAME:CEST
TZOFFSETFROM:+0100
TZOFFSETTO:+0200
END:DAYLIGHT
END:VTIMEZONE
END:VCALENDAR
