BEGIN:VCALENDAR
VERSION:2.0
PRODID:-//Plone.org//NONSGML plone.app.event//EN
X-WR-TIMEZONE:Europe/Berlin
BEGIN:VEVENT
SUMMARY:Souverän klären – Kommunizieren in kritischen Gesprächssituat
 ionen
DTSTART;TZID=Europe/Berlin:20170313T090000
DTEND;TZID=Europe/Berlin:20170313T170000
DTSTAMP:20260425T131252Z
UID:b853d2bfa42b42009a56fccff6fd5d5f@www.uni-marburg.de
ATTENDEE;CN="Oliver Leibrecht, www.euton.de";ROLE=REQ-PARTICIPANT:Oliver L
 eibrecht, www.euton.de
CREATED:20190613T101157Z
DESCRIPTION:https://www.uni-marburg.de/de/mara/aktuelles-mara/events/2017/
 programm-geistes-und-sozialwissenschaften/souveraen-klaeren-kommunizieren-
 in-kritischen-gespraechssituationen-1\n
LAST-MODIFIED:20190613T101719Z
LOCATION:Philipps-Universität Marburg\, MARA\, F|05\, Deutschhausstraße 
 11+13\, 1. OG\, Seminarraum 01.0010
URL:https://www.uni-marburg.de/de/mara/aktuelles-mara/events/2017/programm
 -geistes-und-sozialwissenschaften/souveraen-klaeren-kommunizieren-in-kriti
 schen-gespraechssituationen-1
END:VEVENT
BEGIN:VTIMEZONE
TZID:Europe/Berlin
X-LIC-LOCATION:Europe/Berlin
BEGIN:STANDARD
DTSTART:20161030T020000
TZNAME:CET
TZOFFSETFROM:+0200
TZOFFSETTO:+0100
END:STANDARD
END:VTIMEZONE
END:VCALENDAR
