BEGIN:VCALENDAR
VERSION:2.0
PRODID:-//Plone.org//NONSGML plone.app.event//EN
X-WR-TIMEZONE:Europe/Berlin
BEGIN:VEVENT
SUMMARY:SPSS – Grundkurs
DTSTART;TZID=Europe/Berlin:20170203T090000
DTEND;TZID=Europe/Berlin:20170204T160000
DTSTAMP:20260421T100712Z
UID:dab7da46160f4d0aa8bcbc98ec5c2334@www.uni-marburg.de
ATTENDEE;CN="Kristin Schmidt-Momberg, Alexander Nolte";ROLE=REQ-PARTICIPAN
 T:Kristin Schmidt-Momberg, Alexander Nolte
CREATED:20190424T131747Z
DESCRIPTION:https://www.uni-marburg.de/de/mara/aktuelles-mara/events/2017/
 programm-geistes-und-sozialwissenschaften/spss-grundkurs\n
LAST-MODIFIED:20190430T102928Z
LOCATION:Centrum für Nah- und Mittelost-Studien (CNMS)\, F|14\, Deutschha
 usstraße 12\, PC-Pool 00A12
URL:https://www.uni-marburg.de/de/mara/aktuelles-mara/events/2017/programm
 -geistes-und-sozialwissenschaften/spss-grundkurs
END:VEVENT
BEGIN:VTIMEZONE
TZID:Europe/Berlin
X-LIC-LOCATION:Europe/Berlin
BEGIN:STANDARD
DTSTART:20161030T020000
TZNAME:CET
TZOFFSETFROM:+0200
TZOFFSETTO:+0100
END:STANDARD
END:VTIMEZONE
END:VCALENDAR
