BEGIN:VCALENDAR
VERSION:2.0
PRODID:-//Plone.org//NONSGML plone.app.event//EN
X-WR-TIMEZONE:Europe/Berlin
BEGIN:VEVENT
SUMMARY:Starke Stimme\, starke Präsenz – Selbstpräsentation für Dokto
 randinnen und Postdoktorandinnen
DTSTART;TZID=Europe/Berlin:20171117T100000
DTEND;TZID=Europe/Berlin:20171117T180000
DTSTAMP:20260425T184137Z
UID:51dd9d2fc65149b1b5f29e8f69e8479a@www.uni-marburg.de
ATTENDEE;CN="Dr. Katja Franz, www.katjafranz.de";ROLE=REQ-PARTICIPANT:Dr. 
 Katja Franz, www.katjafranz.de
CREATED:20191021T073239Z
DESCRIPTION:https://www.uni-marburg.de/de/mara/aktuelles-mara/events/2017/
 programm-geistes-und-sozialwissenschaften/starke-stimme-starke-praesenz-se
 lbstpraesentation-fuer-doktorandinnen-und-postdoktorandinnen\n
LAST-MODIFIED:20191021T073758Z
LOCATION:Philipps-Universität Marburg\, MARA\, F|05\, Deutschhausstraße 
 11+13\, 1. OG\, Seminarraum 01.0010
URL:https://www.uni-marburg.de/de/mara/aktuelles-mara/events/2017/programm
 -geistes-und-sozialwissenschaften/starke-stimme-starke-praesenz-selbstprae
 sentation-fuer-doktorandinnen-und-postdoktorandinnen
END:VEVENT
BEGIN:VTIMEZONE
TZID:Europe/Berlin
X-LIC-LOCATION:Europe/Berlin
BEGIN:STANDARD
DTSTART:20171029T020000
TZNAME:CET
TZOFFSETFROM:+0200
TZOFFSETTO:+0100
END:STANDARD
END:VTIMEZONE
END:VCALENDAR
