BEGIN:VCALENDAR
VERSION:2.0
PRODID:-//Plone.org//NONSGML plone.app.event//EN
X-WR-TIMEZONE:Europe/Berlin
BEGIN:VEVENT
SUMMARY:Time and Self-Management for Scientists
DTSTART;TZID=Europe/Berlin:20170925T090000
DTEND;TZID=Europe/Berlin:20170926T160000
DTSTAMP:20260421T172556Z
UID:a5d36a01607e4fdc8228cbb66c084089@www.uni-marburg.de
ATTENDEE;CN="Dr. Markus Gyger, www.gyger-training.de";ROLE=REQ-PARTICIPANT
 :Dr. Markus Gyger, www.gyger-training.de
CREATED:20190828T152514Z
DESCRIPTION:https://www.uni-marburg.de/de/mara/aktuelles-mara/events/2017/
 programm-geistes-und-sozialwissenschaften/time-and-self-management-for-sci
 entists\n
LAST-MODIFIED:20191031T164258Z
LOCATION:Philipps-Universität Marburg\, MARA\, F|05\, Deutschhausstraße 
 11+13\, 1. OG\, Seminar room 01.0010
URL:https://www.uni-marburg.de/de/mara/aktuelles-mara/events/2017/programm
 -geistes-und-sozialwissenschaften/time-and-self-management-for-scientists
END:VEVENT
BEGIN:VTIMEZONE
TZID:Europe/Berlin
X-LIC-LOCATION:Europe/Berlin
BEGIN:DAYLIGHT
DTSTART:20170326T030000
TZNAME:CEST
TZOFFSETFROM:+0100
TZOFFSETTO:+0200
END:DAYLIGHT
END:VTIMEZONE
END:VCALENDAR
