BEGIN:VCALENDAR
VERSION:2.0
PRODID:-//Plone.org//NONSGML plone.app.event//EN
X-WR-TIMEZONE:Europe/Berlin
BEGIN:VEVENT
SUMMARY:Welche Methode passt zu meinem Projekt? – Qualitative und quanti
 tative Methoden im Überblick
DTSTART;TZID=Europe/Berlin:20170916T093000
DTEND;TZID=Europe/Berlin:20170916T173000
DTSTAMP:20260423T190357Z
UID:ede627151c344b6abe749fc8a77e0880@www.uni-marburg.de
ATTENDEE;CN="Michaela Müller";ROLE=REQ-PARTICIPANT:Michaela Müller
CREATED:20190827T100440Z
DESCRIPTION:https://www.uni-marburg.de/de/mara/aktuelles-mara/events/2017/
 programm-geistes-und-sozialwissenschaften/welche-methode-passt-zu-meinem-p
 rojekt-qualitative-und-quantitative-methoden-im-ueberblick\n
LAST-MODIFIED:20190827T101009Z
LOCATION:Philipps-Universität Marburg\, MARA\, F|05\, Deutschhausstraße 
 11+13\, 1. OG\, Seminarraum 01.0010
URL:https://www.uni-marburg.de/de/mara/aktuelles-mara/events/2017/programm
 -geistes-und-sozialwissenschaften/welche-methode-passt-zu-meinem-projekt-q
 ualitative-und-quantitative-methoden-im-ueberblick
END:VEVENT
BEGIN:VTIMEZONE
TZID:Europe/Berlin
X-LIC-LOCATION:Europe/Berlin
BEGIN:DAYLIGHT
DTSTART:20170326T030000
TZNAME:CEST
TZOFFSETFROM:+0100
TZOFFSETTO:+0200
END:DAYLIGHT
END:VTIMEZONE
END:VCALENDAR
