BEGIN:VCALENDAR
VERSION:2.0
PRODID:-//Plone.org//NONSGML plone.app.event//EN
X-WR-TIMEZONE:Europe/Berlin
BEGIN:VEVENT
SUMMARY:Wie frage ich? – Varianten qualitativer Interviews\, Leitfadenen
 twicklung und Interviewführung
DTSTART;TZID=Europe/Berlin:20170203T133000
DTEND;TZID=Europe/Berlin:20170204T173000
DTSTAMP:20260424T210352Z
UID:2ed0ae45e69e43b6801ff39a6e56898c@www.uni-marburg.de
ATTENDEE;CN="Dr. Sarah Weber, www.sarah-weber.net";ROLE=REQ-PARTICIPANT:Dr
 . Sarah Weber, www.sarah-weber.net
CREATED:20190424T134206Z
DESCRIPTION:https://www.uni-marburg.de/de/mara/aktuelles-mara/events/2017/
 programm-geistes-und-sozialwissenschaften/wie-frage-ich-varianten-qualitat
 iver-interviews-leitfadenentwicklung-und-interviewfuehrung\n
LAST-MODIFIED:20190430T103516Z
LOCATION:Philipps-Universität Marburg\, MARA\, F|05\, Deutschhausstraße 
 11+13\, 1. OG\, Seminarraum 01.0010
URL:https://www.uni-marburg.de/de/mara/aktuelles-mara/events/2017/programm
 -geistes-und-sozialwissenschaften/wie-frage-ich-varianten-qualitativer-int
 erviews-leitfadenentwicklung-und-interviewfuehrung
END:VEVENT
BEGIN:VTIMEZONE
TZID:Europe/Berlin
X-LIC-LOCATION:Europe/Berlin
BEGIN:STANDARD
DTSTART:20161030T020000
TZNAME:CET
TZOFFSETFROM:+0200
TZOFFSETTO:+0100
END:STANDARD
END:VTIMEZONE
END:VCALENDAR
