BEGIN:VCALENDAR
VERSION:2.0
PRODID:-//Plone.org//NONSGML plone.app.event//EN
X-WR-TIMEZONE:Europe/Berlin
BEGIN:VEVENT
SUMMARY:Writing Lab – English Academic Writing in the Humanities and Soc
 ial Sciences
DTSTART;TZID=Europe/Berlin:20171204T100000
DTEND;TZID=Europe/Berlin:20171205T173000
DTSTAMP:20260425T034816Z
UID:84d101ba52dd483c93bf326b4fa5977c@www.uni-marburg.de
ATTENDEE;CN="Dr. Kimberly Crow, Stephan Elkins, www.sociotrans.com";ROLE=R
 EQ-PARTICIPANT:Dr. Kimberly Crow, Stephan Elkins, www.sociotrans.com
CREATED:20191030T105058Z
DESCRIPTION:https://www.uni-marburg.de/de/mara/aktuelles-mara/events/2017/
 programm-geistes-und-sozialwissenschaften/writing-lab-english-academic-wri
 ting-in-the-humanities-and-social-sciences\n
LAST-MODIFIED:20191031T164314Z
LOCATION:Philipps-Universität Marburg\, MARA\, F|05\, Deutschhausstraße 
 11+13\, 1. OG\, Seminar room 01.0030
URL:https://www.uni-marburg.de/de/mara/aktuelles-mara/events/2017/programm
 -geistes-und-sozialwissenschaften/writing-lab-english-academic-writing-in-
 the-humanities-and-social-sciences
END:VEVENT
BEGIN:VTIMEZONE
TZID:Europe/Berlin
X-LIC-LOCATION:Europe/Berlin
BEGIN:STANDARD
DTSTART:20171029T020000
TZNAME:CET
TZOFFSETFROM:+0200
TZOFFSETTO:+0100
END:STANDARD
END:VTIMEZONE
END:VCALENDAR
