BEGIN:VCALENDAR
VERSION:2.0
PRODID:-//Plone.org//NONSGML plone.app.event//EN
X-WR-TIMEZONE:Europe/Berlin
BEGIN:VEVENT
SUMMARY:Assessment-Center leicht gemacht!
DTSTART;TZID=Europe/Berlin:20170602T090000
DTEND;TZID=Europe/Berlin:20170603T130000
DTSTAMP:20260425T050528Z
UID:8eb57b063f764f10a337b3ce517b311b@www.uni-marburg.de
ATTENDEE;CN="Johanna Denzel";ROLE=REQ-PARTICIPANT:Johanna Denzel
CREATED:20190818T154231Z
DESCRIPTION:https://www.uni-marburg.de/de/mara/aktuelles-mara/events/2017/
 programm-lebens-und-naturwissenschaften/assessment-center-leicht-gemacht\n
LAST-MODIFIED:20190818T154821Z
LOCATION:Philipps-Universität Marburg\, MARA\, F|05\, Deutschhausstraße 
 11+13\, 1. OG\, Seminarraum 01.0010
URL:https://www.uni-marburg.de/de/mara/aktuelles-mara/events/2017/programm
 -lebens-und-naturwissenschaften/assessment-center-leicht-gemacht
END:VEVENT
BEGIN:VTIMEZONE
TZID:Europe/Berlin
X-LIC-LOCATION:Europe/Berlin
BEGIN:DAYLIGHT
DTSTART:20170326T030000
TZNAME:CEST
TZOFFSETFROM:+0100
TZOFFSETTO:+0200
END:DAYLIGHT
END:VTIMEZONE
END:VCALENDAR
