BEGIN:VCALENDAR
VERSION:2.0
PRODID:-//Plone.org//NONSGML plone.app.event//EN
X-WR-TIMEZONE:Europe/Berlin
BEGIN:VEVENT
SUMMARY:BWL für Nicht-Betriebswissenschaftler/-innen
DTSTART;TZID=Europe/Berlin:20170912T090000
DTEND;TZID=Europe/Berlin:20170913T163000
DTSTAMP:20260425T201642Z
UID:3bee5e7baf9842b5a2e83ea17c2cbfb7@www.uni-marburg.de
ATTENDEE;CN="Ingo Schüler, www.iad.de";ROLE=REQ-PARTICIPANT:Ingo Schüler
 , www.iad.de
CREATED:20190825T203545Z
DESCRIPTION:https://www.uni-marburg.de/de/mara/aktuelles-mara/events/2017/
 programm-lebens-und-naturwissenschaften/bwl-fuer-nicht-betriebswissenschaf
 tler-innen\n
LAST-MODIFIED:20190825T204128Z
LOCATION:Philipps-Universität Marburg\, MARA\, F|05\, Deutschhausstraße 
 11+13\, 1. OG\, Seminarraum 01.0010
URL:https://www.uni-marburg.de/de/mara/aktuelles-mara/events/2017/programm
 -lebens-und-naturwissenschaften/bwl-fuer-nicht-betriebswissenschaftler-inn
 en
END:VEVENT
BEGIN:VTIMEZONE
TZID:Europe/Berlin
X-LIC-LOCATION:Europe/Berlin
BEGIN:DAYLIGHT
DTSTART:20170326T030000
TZNAME:CEST
TZOFFSETFROM:+0100
TZOFFSETTO:+0200
END:DAYLIGHT
END:VTIMEZONE
END:VCALENDAR
