BEGIN:VCALENDAR
VERSION:2.0
PRODID:-//Plone.org//NONSGML plone.app.event//EN
X-WR-TIMEZONE:Europe/Berlin
BEGIN:VEVENT
SUMMARY:Critical Reasoning and Logic
DTSTART;TZID=Europe/Berlin:20171019T090000
DTEND;TZID=Europe/Berlin:20171020T170000
DTSTAMP:20260425T050550Z
UID:1b4911675df34634bb5d1530e02a76be@www.uni-marburg.de
ATTENDEE;CN="Dr. Malte Engel, www.argumentationskompetenz.de";ROLE=REQ-PAR
 TICIPANT:Dr. Malte Engel, www.argumentationskompetenz.de
CREATED:20190901T130319Z
DESCRIPTION:https://www.uni-marburg.de/de/mara/aktuelles-mara/events/2017/
 programm-lebens-und-naturwissenschaften/critical-reasoning-and-logic\n
LAST-MODIFIED:20191031T162408Z
LOCATION:Philipps-Universität Marburg\, MARA\, F|05\, Deutschhausstraße 
 11+13\, 1st floor\, seminar room 01.0010
URL:https://www.uni-marburg.de/de/mara/aktuelles-mara/events/2017/programm
 -lebens-und-naturwissenschaften/critical-reasoning-and-logic
END:VEVENT
BEGIN:VTIMEZONE
TZID:Europe/Berlin
X-LIC-LOCATION:Europe/Berlin
BEGIN:DAYLIGHT
DTSTART:20170326T030000
TZNAME:CEST
TZOFFSETFROM:+0100
TZOFFSETTO:+0200
END:DAYLIGHT
END:VTIMEZONE
END:VCALENDAR
