BEGIN:VCALENDAR
VERSION:2.0
PRODID:-//Plone.org//NONSGML plone.app.event//EN
X-WR-TIMEZONE:Europe/Berlin
BEGIN:VEVENT
SUMMARY:Gedruckt gut aussehen – Crashkurs Textgestaltung
DTSTART;TZID=Europe/Berlin:20170125T150000
DTEND;TZID=Europe/Berlin:20170125T190000
DTSTAMP:20260425T125854Z
UID:8e6f76f7a2dd40eb9bef0160a3e763a1@www.uni-marburg.de
ATTENDEE;CN="Dr. Matthias Warkus, www.matthias-warkus.de";ROLE=REQ-PARTICI
 PANT:Dr. Matthias Warkus, www.matthias-warkus.de
CREATED:20190409T103758Z
DESCRIPTION:https://www.uni-marburg.de/de/mara/aktuelles-mara/events/2017/
 programm-lebens-und-naturwissenschaften/gedruckt-gut-aussehen-crashkurs-te
 xtgestaltung\n
LAST-MODIFIED:20190409T104248Z
LOCATION:Philipps-Universität Marburg\, MARA\, F|05\, Deutschhausstraße 
 11+13\, 1. OG\, Seminarraum 01.0030
URL:https://www.uni-marburg.de/de/mara/aktuelles-mara/events/2017/programm
 -lebens-und-naturwissenschaften/gedruckt-gut-aussehen-crashkurs-textgestal
 tung
END:VEVENT
BEGIN:VTIMEZONE
TZID:Europe/Berlin
X-LIC-LOCATION:Europe/Berlin
BEGIN:STANDARD
DTSTART:20161030T020000
TZNAME:CET
TZOFFSETFROM:+0200
TZOFFSETTO:+0100
END:STANDARD
END:VTIMEZONE
END:VCALENDAR
