BEGIN:VCALENDAR
VERSION:2.0
PRODID:-//Plone.org//NONSGML plone.app.event//EN
X-WR-TIMEZONE:Europe/Berlin
BEGIN:VEVENT
SUMMARY:GMP und GLP – Grundlagen und erweiterte Anforderungen in der pha
 rmazeutischen Industrie
DTSTART;TZID=Europe/Berlin:20171219T090000
DTEND;TZID=Europe/Berlin:20171220T170000
DTSTAMP:20260426T024429Z
UID:26c7446639634b698dfc3c4e778061b7@www.uni-marburg.de
ATTENDEE;CN="Dr. Heinrich Prinz – PDM-Consulting, Christoph Prinz – Qu
 ality Manager der Firma ^'apceth GmbH & Co. KG^'";ROLE=REQ-PARTICIPANT:Dr.
  Heinrich Prinz – PDM-Consulting, Christoph Prinz – Quality Manager de
 r Firma "apceth GmbH & Co. KG"
CREATED:20191031T160238Z
DESCRIPTION:https://www.uni-marburg.de/de/mara/aktuelles-mara/events/2017/
 programm-lebens-und-naturwissenschaften/gmp-und-glp-grundlagen-und-erweite
 rte-anforderungen-in-der-pharmazeutischen-industrie-1\n
LAST-MODIFIED:20191031T160919Z
LOCATION:Philipps-Universität Marburg\, MARA\, F|05\, Deutschhausstraße 
 11+13\, 1. OG\, Seminarraum 01.0010
URL:https://www.uni-marburg.de/de/mara/aktuelles-mara/events/2017/programm
 -lebens-und-naturwissenschaften/gmp-und-glp-grundlagen-und-erweiterte-anfo
 rderungen-in-der-pharmazeutischen-industrie-1
END:VEVENT
BEGIN:VTIMEZONE
TZID:Europe/Berlin
X-LIC-LOCATION:Europe/Berlin
BEGIN:STANDARD
DTSTART:20171029T020000
TZNAME:CET
TZOFFSETFROM:+0200
TZOFFSETTO:+0100
END:STANDARD
END:VTIMEZONE
END:VCALENDAR
