BEGIN:VCALENDAR
VERSION:2.0
PRODID:-//Plone.org//NONSGML plone.app.event//EN
X-WR-TIMEZONE:Europe/Berlin
BEGIN:VEVENT
SUMMARY:LaTeX für wissenschaftliche Arbeiten
DTSTART;TZID=Europe/Berlin:20170126T090000
DTEND;TZID=Europe/Berlin:20170126T170000
DTSTAMP:20260425T125714Z
UID:96e1660a687348b49c0659f697189a20@www.uni-marburg.de
ATTENDEE;CN="Dr. Matthias Warkus, www.matthias-warkus.de";ROLE=REQ-PARTICI
 PANT:Dr. Matthias Warkus, www.matthias-warkus.de
CREATED:20190409T105303Z
DESCRIPTION:https://www.uni-marburg.de/de/mara/aktuelles-mara/events/2017/
 programm-lebens-und-naturwissenschaften/latex-fuer-wissenschaftliche-arbei
 ten\n
LAST-MODIFIED:20190425T152402Z
LOCATION:Philipps-Universität Marburg\, GWS-C\, W|02\, Wilhelm-Röpke-Str
 aße 6\, Block C\, 3. Stock\, PC-Pool 03C01
URL:https://www.uni-marburg.de/de/mara/aktuelles-mara/events/2017/programm
 -lebens-und-naturwissenschaften/latex-fuer-wissenschaftliche-arbeiten
END:VEVENT
BEGIN:VTIMEZONE
TZID:Europe/Berlin
X-LIC-LOCATION:Europe/Berlin
BEGIN:STANDARD
DTSTART:20161030T020000
TZNAME:CET
TZOFFSETFROM:+0200
TZOFFSETTO:+0100
END:STANDARD
END:VTIMEZONE
END:VCALENDAR
