BEGIN:VCALENDAR
VERSION:2.0
PRODID:-//Plone.org//NONSGML plone.app.event//EN
X-WR-TIMEZONE:Europe/Berlin
BEGIN:VEVENT
SUMMARY:Managing Projects in Science and Research
DTSTART;TZID=Europe/Berlin:20170503T090000
DTEND;TZID=Europe/Berlin:20170504T170000
DTSTAMP:20260425T050550Z
UID:ab4fa5eebc1644018a9c073b0d07b9e8@www.uni-marburg.de
ATTENDEE;CN="Dr. Christine Issa, www.saminworld.org";ROLE=REQ-PARTICIPANT:
 Dr. Christine Issa, www.saminworld.org
CREATED:20190807T131610Z
DESCRIPTION:https://www.uni-marburg.de/de/mara/aktuelles-mara/events/2017/
 programm-lebens-und-naturwissenschaften/managing-projects-in-science-and-r
 esearch\n
LAST-MODIFIED:20191031T161553Z
LOCATION:Philipps-Universität Marburg\, MARA\, F|05\, Deutschhausstraße 
 11+13\, 1st floor\, seminar room 01.0010
URL:https://www.uni-marburg.de/de/mara/aktuelles-mara/events/2017/programm
 -lebens-und-naturwissenschaften/managing-projects-in-science-and-research
END:VEVENT
BEGIN:VTIMEZONE
TZID:Europe/Berlin
X-LIC-LOCATION:Europe/Berlin
BEGIN:DAYLIGHT
DTSTART:20170326T030000
TZNAME:CEST
TZOFFSETFROM:+0100
TZOFFSETTO:+0200
END:DAYLIGHT
END:VTIMEZONE
END:VCALENDAR
