BEGIN:VCALENDAR
VERSION:2.0
PRODID:-//Plone.org//NONSGML plone.app.event//EN
X-WR-TIMEZONE:Europe/Berlin
BEGIN:VEVENT
SUMMARY:Projektmanagement in der Wissenschaft
DTSTART;TZID=Europe/Berlin:20171211T090000
DTEND;TZID=Europe/Berlin:20171212T170000
DTSTAMP:20260425T050720Z
UID:9b8f4cf9e2564e4386f331de939d669e@www.uni-marburg.de
ATTENDEE;CN="Dr. Alexander Schiller, www.schillermertens.de";ROLE=REQ-PART
 ICIPANT:Dr. Alexander Schiller, www.schillermertens.de
CREATED:20191030T164330Z
DESCRIPTION:https://www.uni-marburg.de/de/mara/aktuelles-mara/events/2017/
 programm-lebens-und-naturwissenschaften/projektmanagement-in-der-wissensch
 aft\n
LAST-MODIFIED:20191031T162829Z
LOCATION:Philipps-Universität Marburg\, MARA\, F|05\, Deutschhausstraße 
 11+13\, 1. OG\, Seminarraum 01.0010
URL:https://www.uni-marburg.de/de/mara/aktuelles-mara/events/2017/programm
 -lebens-und-naturwissenschaften/projektmanagement-in-der-wissenschaft
END:VEVENT
BEGIN:VTIMEZONE
TZID:Europe/Berlin
X-LIC-LOCATION:Europe/Berlin
BEGIN:STANDARD
DTSTART:20171029T020000
TZNAME:CET
TZOFFSETFROM:+0200
TZOFFSETTO:+0100
END:STANDARD
END:VTIMEZONE
END:VCALENDAR
