BEGIN:VCALENDAR
VERSION:2.0
PRODID:-//Plone.org//NONSGML plone.app.event//EN
X-WR-TIMEZONE:Europe/Berlin
BEGIN:VEVENT
SUMMARY:Promotion und dann? Wissenschaft oder Wirtschaft – Karrierewege 
 in den Lebens- und Naturwissenschaften
DTSTART;TZID=Europe/Berlin:20171026T090000
DTEND;TZID=Europe/Berlin:20171026T170000
DTSTAMP:20260425T163331Z
UID:114b4f25ea0945d29181e8fca060d1b8@www.uni-marburg.de
ATTENDEE;CN="Dr. Christine Issa, www.saminworld.org";ROLE=REQ-PARTICIPANT:
 Dr. Christine Issa, www.saminworld.org
CREATED:20190901T144424Z
DESCRIPTION:https://www.uni-marburg.de/de/mara/aktuelles-mara/events/2017/
 programm-lebens-und-naturwissenschaften/promotion-und-dann-wissenschaft-od
 er-wirtschaft-karrierewege-in-den-lebens-und-naturwissenschaften\n
LAST-MODIFIED:20190901T144829Z
LOCATION:Philipps-Universität Marburg\, MARA F|05\, Deutschhausstraße 11
 +13 Seminarraum 01.0030
URL:https://www.uni-marburg.de/de/mara/aktuelles-mara/events/2017/programm
 -lebens-und-naturwissenschaften/promotion-und-dann-wissenschaft-oder-wirts
 chaft-karrierewege-in-den-lebens-und-naturwissenschaften
END:VEVENT
BEGIN:VTIMEZONE
TZID:Europe/Berlin
X-LIC-LOCATION:Europe/Berlin
BEGIN:DAYLIGHT
DTSTART:20170326T030000
TZNAME:CEST
TZOFFSETFROM:+0100
TZOFFSETTO:+0200
END:DAYLIGHT
END:VTIMEZONE
END:VCALENDAR
