BEGIN:VCALENDAR
VERSION:2.0
PRODID:-//Plone.org//NONSGML plone.app.event//EN
X-WR-TIMEZONE:Europe/Berlin
BEGIN:VEVENT
SUMMARY:R Basics – Statistical Data Analysis
DTSTART;TZID=Europe/Berlin:20190401T090000
DTEND;TZID=Europe/Berlin:20190401T170000
DTSTAMP:20260425T025741Z
UID:2409ba236a9145b3adf712f953477263@www.uni-marburg.de
ATTENDEE;CN="Dr. Matthias Duschl, Daniel Lee";ROLE=REQ-PARTICIPANT:Dr. Mat
 thias Duschl, Daniel Lee
CREATED:20190514T175521Z
DESCRIPTION:https://www.uni-marburg.de/de/mara/aktuelles-mara/events/2017/
 programm-lebens-und-naturwissenschaften/r-basics-2013-statistical-data-ana
 lysis\n
LAST-MODIFIED:20191030T170436Z
LOCATION:Philipps-Universität Marburg\, MARA\, F|05\, Deutschhausstraße 
 11+13\, 1st floor\, seminar room 01.0010
URL:https://www.uni-marburg.de/de/mara/aktuelles-mara/events/2017/programm
 -lebens-und-naturwissenschaften/r-basics-2013-statistical-data-analysis
END:VEVENT
BEGIN:VTIMEZONE
TZID:Europe/Berlin
X-LIC-LOCATION:Europe/Berlin
BEGIN:DAYLIGHT
DTSTART:20190331T030000
TZNAME:CEST
TZOFFSETFROM:+0100
TZOFFSETTO:+0200
END:DAYLIGHT
END:VTIMEZONE
END:VCALENDAR
