BEGIN:VCALENDAR
VERSION:2.0
PRODID:-//Plone.org//NONSGML plone.app.event//EN
X-WR-TIMEZONE:Europe/Berlin
BEGIN:VEVENT
SUMMARY:Schreibwerkstatt – Mehrsprachig wissenschaftlich arbeiten und sc
 hreiben
DTSTART;TZID=Europe/Berlin:20170425T090000
DTEND;TZID=Europe/Berlin:20170425T170000
DTSTAMP:20260425T204433Z
UID:02e7833a3d33490c9819bd08ed510852@www.uni-marburg.de
ATTENDEE;CN="Dr. Melanie Brinkschulte";ROLE=REQ-PARTICIPANT:Dr. Melanie Br
 inkschulte
CREATED:20190815T163057Z
DESCRIPTION:https://www.uni-marburg.de/de/mara/aktuelles-mara/events/2017/
 programm-lebens-und-naturwissenschaften/schreibwerkstatt-mehrsprachig-wiss
 enschaftlich-arbeiten-und-schreiben\n
LAST-MODIFIED:20190815T163805Z
LOCATION:Philipps-Universität Marburg\, MARA\, F|05\, Deutschhausstraße 
 11+13\, 1. OG\, Seminarraum 01.0030
URL:https://www.uni-marburg.de/de/mara/aktuelles-mara/events/2017/programm
 -lebens-und-naturwissenschaften/schreibwerkstatt-mehrsprachig-wissenschaft
 lich-arbeiten-und-schreiben
END:VEVENT
BEGIN:VTIMEZONE
TZID:Europe/Berlin
X-LIC-LOCATION:Europe/Berlin
BEGIN:DAYLIGHT
DTSTART:20170326T030000
TZNAME:CEST
TZOFFSETFROM:+0100
TZOFFSETTO:+0200
END:DAYLIGHT
END:VTIMEZONE
END:VCALENDAR
