BEGIN:VCALENDAR
VERSION:2.0
PRODID:-//Plone.org//NONSGML plone.app.event//EN
X-WR-TIMEZONE:Europe/Berlin
BEGIN:VEVENT
SUMMARY:Versuchstierkunde – Tierschutzgerechter Umgang mit Labormäusen 
 oder -ratten
DTSTART;TZID=Europe/Berlin:20170517T161500
DTEND;TZID=Europe/Berlin:20170517T173000
DTSTAMP:20260425T050557Z
UID:cc8fe60a5f0143dca71fe6f0af928c22@www.uni-marburg.de
ATTENDEE;CN="Dr. Cornelia Exner, Dr. Kirsten Grimpo, Dr. André Kaminiarz,
  Dr. Nicole Linklater, Dr. Hosam Shams-Eldin";ROLE=REQ-PARTICIPANT:Dr. Cor
 nelia Exner, Dr. Kirsten Grimpo, Dr. André Kaminiarz, Dr. Nicole Linklate
 r, Dr. Hosam Shams-Eldin
CREATED:20190807T161503Z
DESCRIPTION:https://www.uni-marburg.de/de/mara/aktuelles-mara/events/2017/
 programm-lebens-und-naturwissenschaften/versuchstierkunde-tierschutzgerech
 ter-umgang-mit-labormaeusen-oder-ratten-1\n
LAST-MODIFIED:20190807T162150Z
LOCATION:Wird bei Anmeldung bekanntgegeben
URL:https://www.uni-marburg.de/de/mara/aktuelles-mara/events/2017/programm
 -lebens-und-naturwissenschaften/versuchstierkunde-tierschutzgerechter-umga
 ng-mit-labormaeusen-oder-ratten-1
END:VEVENT
BEGIN:VTIMEZONE
TZID:Europe/Berlin
X-LIC-LOCATION:Europe/Berlin
BEGIN:DAYLIGHT
DTSTART:20170326T030000
TZNAME:CEST
TZOFFSETFROM:+0100
TZOFFSETTO:+0200
END:DAYLIGHT
END:VTIMEZONE
END:VCALENDAR
