BEGIN:VCALENDAR
VERSION:2.0
PRODID:-//Plone.org//NONSGML plone.app.event//EN
X-WR-TIMEZONE:Europe/Berlin
BEGIN:VEVENT
SUMMARY:Versuchstierkunde – Tierschutzgerechter Umgang mit Labormäusen 
 oder -ratten
DTSTART;TZID=Europe/Berlin:20190201T161500
DTEND;TZID=Europe/Berlin:20190201T173000
DTSTAMP:20260424T104217Z
UID:f5761bb18b4c486a92f94a81f88f3b19@www.uni-marburg.de
ATTENDEE;CN="Dr. Cornelia Exner, Dr. Kirsten Grimpo, Dr. André Kaminiarz,
  Dr. Nicole Linklater, Dr. Hosam Shams-Eldin";ROLE=REQ-PARTICIPANT:Dr. Cor
 nelia Exner, Dr. Kirsten Grimpo, Dr. André Kaminiarz, Dr. Nicole Linklate
 r, Dr. Hosam Shams-Eldin
CREATED:20190424T125422Z
DESCRIPTION:https://www.uni-marburg.de/de/mara/aktuelles-mara/events/2017/
 programm-lebens-und-naturwissenschaften/versuchstierkunde-tierschutzgerech
 ter-umgang-mit-labormaeusen-oder-ratten\n
LAST-MODIFIED:20190807T160723Z
LOCATION:Wird bei Anmeldung bekanntgegeben
URL:https://www.uni-marburg.de/de/mara/aktuelles-mara/events/2017/programm
 -lebens-und-naturwissenschaften/versuchstierkunde-tierschutzgerechter-umga
 ng-mit-labormaeusen-oder-ratten
END:VEVENT
BEGIN:VTIMEZONE
TZID:Europe/Berlin
X-LIC-LOCATION:Europe/Berlin
BEGIN:STANDARD
DTSTART:20181028T020000
TZNAME:CET
TZOFFSETFROM:+0200
TZOFFSETTO:+0100
END:STANDARD
END:VTIMEZONE
END:VCALENDAR
