BEGIN:VCALENDAR
VERSION:2.0
PRODID:-//Plone.org//NONSGML plone.app.event//EN
X-WR-TIMEZONE:Europe/Berlin
BEGIN:VEVENT
SUMMARY:Wie bewerbe ich mich richtig?
DTSTART;TZID=Europe/Berlin:20170624T090000
DTEND;TZID=Europe/Berlin:20170624T170000
DTSTAMP:20260425T050719Z
UID:3896d011e07e430097cf8b448362b744@www.uni-marburg.de
ATTENDEE;CN="Johanna Denzel";ROLE=REQ-PARTICIPANT:Johanna Denzel
CREATED:20190819T141039Z
DESCRIPTION:https://www.uni-marburg.de/de/mara/aktuelles-mara/events/2017/
 programm-lebens-und-naturwissenschaften/wie-bewerbe-ich-mich-richtig-1\n
LAST-MODIFIED:20190819T141747Z
LOCATION:Philipps-Universität Marburg\, MARA\, F|05\, Deutschhausstraße 
 11+13\, 1. OG\, Seminarraum 01.0010
URL:https://www.uni-marburg.de/de/mara/aktuelles-mara/events/2017/programm
 -lebens-und-naturwissenschaften/wie-bewerbe-ich-mich-richtig-1
END:VEVENT
BEGIN:VTIMEZONE
TZID:Europe/Berlin
X-LIC-LOCATION:Europe/Berlin
BEGIN:DAYLIGHT
DTSTART:20170326T030000
TZNAME:CEST
TZOFFSETFROM:+0100
TZOFFSETTO:+0200
END:DAYLIGHT
END:VTIMEZONE
END:VCALENDAR
