BEGIN:VCALENDAR
VERSION:2.0
PRODID:-//Plone.org//NONSGML plone.app.event//EN
X-WR-TIMEZONE:Europe/Berlin
BEGIN:VEVENT
SUMMARY:Wie bewerbe ich mich richtig?
DTSTART;TZID=Europe/Berlin:20170210T090000
DTEND;TZID=Europe/Berlin:20170210T170000
DTSTAMP:20260425T032445Z
UID:356abfca853c42068a7dd3b099221783@www.uni-marburg.de
ATTENDEE;CN="Johanna Denzel";ROLE=REQ-PARTICIPANT:Johanna Denzel
CREATED:20190425T133236Z
DESCRIPTION:https://www.uni-marburg.de/de/mara/aktuelles-mara/events/2017/
 programm-lebens-und-naturwissenschaften/wie-bewerbe-ich-mich-richtig\n
LAST-MODIFIED:20190509T111625Z
LOCATION:Philipps-Universität Marburg\, MARA\, F|05\, Deutschhausstraße 
 11+13\, 1. OG\, Seminarraum 01.0010
URL:https://www.uni-marburg.de/de/mara/aktuelles-mara/events/2017/programm
 -lebens-und-naturwissenschaften/wie-bewerbe-ich-mich-richtig
END:VEVENT
BEGIN:VTIMEZONE
TZID:Europe/Berlin
X-LIC-LOCATION:Europe/Berlin
BEGIN:STANDARD
DTSTART:20161030T020000
TZNAME:CET
TZOFFSETFROM:+0200
TZOFFSETTO:+0100
END:STANDARD
END:VTIMEZONE
END:VCALENDAR
