BEGIN:VCALENDAR
VERSION:2.0
PRODID:-//Plone.org//NONSGML plone.app.event//EN
X-WR-TIMEZONE:Europe/Berlin
BEGIN:VEVENT
SUMMARY:Writing Lab – Abstracts
DTSTART;TZID=Europe/Berlin:20170311T100000
DTEND;TZID=Europe/Berlin:20170311T140000
DTSTAMP:20260425T000223Z
UID:1ccd41b2248841f297f4fd6a0b322578@www.uni-marburg.de
ATTENDEE;CN="Dr. Fabienne Quennet";ROLE=REQ-PARTICIPANT:Dr. Fabienne Quenn
 et
CREATED:20190613T100020Z
DESCRIPTION:https://www.uni-marburg.de/de/mara/aktuelles-mara/events/2017/
 programm-lebens-und-naturwissenschaften/writing-lab-abstracts\n
LAST-MODIFIED:20191031T161435Z
LOCATION:Philipps-Universität Marburg\, MARA\, F|05\, Deutschhausstraße 
 11+13\, 1st floor\, seminar room 01.0010
URL:https://www.uni-marburg.de/de/mara/aktuelles-mara/events/2017/programm
 -lebens-und-naturwissenschaften/writing-lab-abstracts
END:VEVENT
BEGIN:VTIMEZONE
TZID:Europe/Berlin
X-LIC-LOCATION:Europe/Berlin
BEGIN:STANDARD
DTSTART:20161030T020000
TZNAME:CET
TZOFFSETFROM:+0200
TZOFFSETTO:+0100
END:STANDARD
END:VTIMEZONE
END:VCALENDAR
