BEGIN:VCALENDAR
VERSION:2.0
PRODID:-//Plone.org//NONSGML plone.app.event//EN
X-WR-TIMEZONE:Europe/Berlin
BEGIN:VEVENT
SUMMARY:Writing Lab – Academic Writing Style for the Life and Natural Sc
 iences
DTSTART;TZID=Europe/Berlin:20171111T100000
DTEND;TZID=Europe/Berlin:20171111T140000
DTSTAMP:20260425T032552Z
UID:0e650e4e0d3d41f29d30ba98bfa36ffd@www.uni-marburg.de
ATTENDEE;CN="Dr. Fabienne Quennet";ROLE=REQ-PARTICIPANT:Dr. Fabienne Quenn
 et
CREATED:20191020T151829Z
DESCRIPTION:https://www.uni-marburg.de/de/mara/aktuelles-mara/events/2017/
 programm-lebens-und-naturwissenschaften/writing-lab-academic-writing-style
 -for-the-life-and-natural-sciences\n
LAST-MODIFIED:20191031T162715Z
LOCATION:Philipps-Universität Marburg\, MARA\, F|05\, Deutschhausstraße 
 11+13\, 1st floor\, seminar room 01.0030
URL:https://www.uni-marburg.de/de/mara/aktuelles-mara/events/2017/programm
 -lebens-und-naturwissenschaften/writing-lab-academic-writing-style-for-the
 -life-and-natural-sciences
END:VEVENT
BEGIN:VTIMEZONE
TZID:Europe/Berlin
X-LIC-LOCATION:Europe/Berlin
BEGIN:STANDARD
DTSTART:20171029T020000
TZNAME:CET
TZOFFSETFROM:+0200
TZOFFSETTO:+0100
END:STANDARD
END:VTIMEZONE
END:VCALENDAR
