BEGIN:VCALENDAR
VERSION:2.0
PRODID:-//Plone.org//NONSGML plone.app.event//EN
X-WR-TIMEZONE:Europe/Berlin
BEGIN:VEVENT
SUMMARY:Schreibwerkstatt – Die Lesbarkeit verbessern in den Geistes- und
  Sozialwissenschaften
DTSTART;TZID=Europe/Berlin:20180317T100000
DTEND;TZID=Europe/Berlin:20180317T140000
DTSTAMP:20260425T205343Z
UID:0abcb440f6974528a6e45c9d33df3e77@www.uni-marburg.de
ATTENDEE;CN="Dr. Monika Rapp, www.german-for-professionals.com";ROLE=REQ-P
 ARTICIPANT:Dr. Monika Rapp, www.german-for-professionals.com
CREATED:20200108T141849Z
DESCRIPTION:https://www.uni-marburg.de/de/mara/aktuelles-mara/events/2018/
 programm-geistes-und-sozialwissenschaften/schreibwerkstatt-die-lesbarkeit-
 verbessern-in-den-geistes-und-sozialwissenschaften\n
LAST-MODIFIED:20200108T142812Z
LOCATION:Philipps-Universität Marburg\, MARA\, F|05\, Deutschhausstraße 
 11+13\, 1. OG\, Seminarraum 01.0030
URL:https://www.uni-marburg.de/de/mara/aktuelles-mara/events/2018/programm
 -geistes-und-sozialwissenschaften/schreibwerkstatt-die-lesbarkeit-verbesse
 rn-in-den-geistes-und-sozialwissenschaften
END:VEVENT
BEGIN:VTIMEZONE
TZID:Europe/Berlin
X-LIC-LOCATION:Europe/Berlin
BEGIN:STANDARD
DTSTART:20171029T020000
TZNAME:CET
TZOFFSETFROM:+0200
TZOFFSETTO:+0100
END:STANDARD
END:VTIMEZONE
END:VCALENDAR
