BEGIN:VCALENDAR
VERSION:2.0
PRODID:-//Plone.org//NONSGML plone.app.event//EN
X-WR-TIMEZONE:Europe/Berlin
BEGIN:VEVENT
SUMMARY:Speak Up! — Rhetoric Basics
DTSTART;TZID=Europe/Berlin:20180622T090000
DTEND;TZID=Europe/Berlin:20180623T180000
DTSTAMP:20260422T034321Z
UID:4298493962494ce5ae8527bc9c57578a@www.uni-marburg.de
ATTENDEE;CN="Dr. Constanze Armbrecht";ROLE=REQ-PARTICIPANT:Dr. Constanze A
 rmbrecht
CREATED:20180110T111105Z
DESCRIPTION:https://www.uni-marburg.de/de/mara/aktuelles-mara/events/2018/
 programm-geistes-und-sozialwissenschaften/speak-up\n
LAST-MODIFIED:20180426T083031Z
LOCATION:Philipps-Universität Marburg\, MARA\, F|05\, Deutschhausstraße 
 11+13\, 1st floor\, seminar room 01.0010
URL:https://www.uni-marburg.de/de/mara/aktuelles-mara/events/2018/programm
 -geistes-und-sozialwissenschaften/speak-up
END:VEVENT
BEGIN:VTIMEZONE
TZID:Europe/Berlin
X-LIC-LOCATION:Europe/Berlin
BEGIN:DAYLIGHT
DTSTART:20180325T030000
TZNAME:CEST
TZOFFSETFROM:+0100
TZOFFSETTO:+0200
END:DAYLIGHT
END:VTIMEZONE
END:VCALENDAR
