BEGIN:VCALENDAR
VERSION:2.0
PRODID:-//Plone.org//NONSGML plone.app.event//EN
X-WR-TIMEZONE:Europe/Berlin
BEGIN:VEVENT
SUMMARY:Welche Methode passt zu meinem Projekt? – Qualitative und quanti
 tative Methoden im Überblick_abgesagt
DTSTART;TZID=Europe/Berlin:20181018T090000
DTEND;TZID=Europe/Berlin:20181018T173000
DTSTAMP:20260419T171227Z
UID:478c2829e5c9447a9dc35cfc63dac844@www.uni-marburg.de
ATTENDEE;CN="Michaela Müller";ROLE=REQ-PARTICIPANT:Michaela Müller
CREATED:20180518T100100Z
DESCRIPTION:https://www.uni-marburg.de/de/mara/aktuelles-mara/events/2018/
 programm-geistes-und-sozialwissenschaften/welche-methode\n
LAST-MODIFIED:20181005T094050Z
LOCATION:Philipps-Universität Marburg\, MARA\, F|05\, Deutschhausstraße 
 11+13\, Seminarraum 01.0030
URL:https://www.uni-marburg.de/de/mara/aktuelles-mara/events/2018/programm
 -geistes-und-sozialwissenschaften/welche-methode
END:VEVENT
BEGIN:VTIMEZONE
TZID:Europe/Berlin
X-LIC-LOCATION:Europe/Berlin
BEGIN:DAYLIGHT
DTSTART:20180325T030000
TZNAME:CEST
TZOFFSETFROM:+0100
TZOFFSETTO:+0200
END:DAYLIGHT
END:VTIMEZONE
END:VCALENDAR
