BEGIN:VCALENDAR
VERSION:2.0
PRODID:-//Plone.org//NONSGML plone.app.event//EN
X-WR-TIMEZONE:Europe/Berlin
BEGIN:VEVENT
SUMMARY:Gute wissenschaftliche Praxis – Verantwortungsvoll promovieren
DTSTART;TZID=Europe/Berlin:20180417T091500
DTEND;TZID=Europe/Berlin:20180418T131500
DTSTAMP:20260425T225310Z
UID:d297b78c6f0d41a6a9551be9a9835d86@www.uni-marburg.de
ATTENDEE;CN="Dr. Michael Gommel, www.michaelgommel.de";ROLE=REQ-PARTICIPAN
 T:Dr. Michael Gommel, www.michaelgommel.de
CREATED:20200109T103909Z
DESCRIPTION:https://www.uni-marburg.de/de/mara/aktuelles-mara/events/2018/
 programm-lebens-und-naturwissenschaften/gute-wissenschaftliche-praxis-vera
 ntwortungsvoll-promovieren\n
LAST-MODIFIED:20200109T104821Z
LOCATION:Philipps-Universität Marburg\, MARA\, F|05\, Deutschhausstraße 
 11+13\, 1. OG\, Seminarraum 01.0010
URL:https://www.uni-marburg.de/de/mara/aktuelles-mara/events/2018/programm
 -lebens-und-naturwissenschaften/gute-wissenschaftliche-praxis-verantwortun
 gsvoll-promovieren
END:VEVENT
BEGIN:VTIMEZONE
TZID:Europe/Berlin
X-LIC-LOCATION:Europe/Berlin
BEGIN:DAYLIGHT
DTSTART:20180325T030000
TZNAME:CEST
TZOFFSETFROM:+0100
TZOFFSETTO:+0200
END:DAYLIGHT
END:VTIMEZONE
END:VCALENDAR
