BEGIN:VCALENDAR
VERSION:2.0
PRODID:-//Plone.org//NONSGML plone.app.event//EN
X-WR-TIMEZONE:Europe/Berlin
BEGIN:VEVENT
SUMMARY:Writing Lab – From Idea to Text in the Life and Natural Sciences
DTSTART;TZID=Europe/Berlin:20180412T140000
DTEND;TZID=Europe/Berlin:20180412T180000
DTSTAMP:20260426T021849Z
UID:19dec360ae364b0faa98877a2c1f7f11@www.uni-marburg.de
ATTENDEE;CN="Prof. Dr. Annette Klussmann-Kolb, www.coachademics.de";ROLE=R
 EQ-PARTICIPANT:Prof. Dr. Annette Klussmann-Kolb, www.coachademics.de
CREATED:20200109T092115Z
DESCRIPTION:https://www.uni-marburg.de/de/mara/aktuelles-mara/events/2018/
 programm-lebens-und-naturwissenschaften/writing-lab-from-idea-to-text-in-t
 he-life-and-natural-sciences\n
LAST-MODIFIED:20200109T103209Z
LOCATION:Philipps-Universität Marburg\, MARA\, F|05\, Deutschhausstraße 
 11+13\, 1st floor\, seminar room 01.0030
URL:https://www.uni-marburg.de/de/mara/aktuelles-mara/events/2018/programm
 -lebens-und-naturwissenschaften/writing-lab-from-idea-to-text-in-the-life-
 and-natural-sciences
END:VEVENT
BEGIN:VTIMEZONE
TZID:Europe/Berlin
X-LIC-LOCATION:Europe/Berlin
BEGIN:DAYLIGHT
DTSTART:20180325T030000
TZNAME:CEST
TZOFFSETFROM:+0100
TZOFFSETTO:+0200
END:DAYLIGHT
END:VTIMEZONE
END:VCALENDAR
