BEGIN:VCALENDAR
VERSION:2.0
PRODID:-//Plone.org//NONSGML plone.app.event//EN
X-WR-TIMEZONE:Europe/Berlin
BEGIN:VEVENT
SUMMARY:Business Knigge – Mit guten Umgangsformen punkten
DTSTART;TZID=Europe/Berlin:20181117T090000
DTEND;TZID=Europe/Berlin:20181117T170000
DTSTAMP:20260423T231219Z
UID:f499d36f88954b48acf2e2d383a758f9@www.uni-marburg.de
ATTENDEE;CN="Dr. Theresa Rühl, www.coachingforacademics.de";ROLE=REQ-PART
 ICIPANT:Dr. Theresa Rühl, www.coachingforacademics.de
CREATED:20180530T115644Z
DESCRIPTION:https://www.uni-marburg.de/de/mara/aktuelles-mara/events/2018/
 programm-postdoc/business-knigge\nIn diesem Workshop lernen Sie\, mit souv
 eränen Umgangsformen bei Vorstellungen\, Konferenzen und beim Kontakt mit
  Vorgesetzten und Mitarbeiterinnen und Mitarbeitern zu überzeugen.
LAST-MODIFIED:20180612T111247Z
LOCATION:Philipps-Universität Marburg\, MARA\, F|05\, Deutschhausstr. 11+
 13\, 1. OG\, Seminarraum 01.0010
URL:https://www.uni-marburg.de/de/mara/aktuelles-mara/events/2018/programm
 -postdoc/business-knigge
END:VEVENT
BEGIN:VTIMEZONE
TZID:Europe/Berlin
X-LIC-LOCATION:Europe/Berlin
BEGIN:STANDARD
DTSTART:20181028T020000
TZNAME:CET
TZOFFSETFROM:+0200
TZOFFSETTO:+0100
END:STANDARD
END:VTIMEZONE
END:VCALENDAR
