BEGIN:VCALENDAR
VERSION:2.0
PRODID:-//Plone.org//NONSGML plone.app.event//EN
X-WR-TIMEZONE:Europe/Berlin
BEGIN:VEVENT
SUMMARY:EMF – Bewertung\, Schutz und Vermarktung von Hochschul-Know-how
DTSTART;TZID=Europe/Berlin:20180515T090000
DTEND;TZID=Europe/Berlin:20180515T130000
DTSTAMP:20260421T143956Z
UID:bea104a4826f407ea3ea1c67f4112f4c@www.uni-marburg.de
ATTENDEE;CN="Dr. Thomas Widmann, www.transmit.de";ROLE=REQ-PARTICIPANT:Dr.
  Thomas Widmann, www.transmit.de
CREATED:20200115T102002Z
DESCRIPTION:https://www.uni-marburg.de/de/mara/aktuelles-mara/events/2018/
 programm-postdoc/emf-bewertung-schutz-und-vermarktung-von-hochschul-know-h
 ow\n
LAST-MODIFIED:20200115T103142Z
LOCATION:Philipps-Universität Marburg\, MARA\, F|05\, Deutschhausstr. 11+
 13\, 1. OG\, Seminarraum 01.0030
URL:https://www.uni-marburg.de/de/mara/aktuelles-mara/events/2018/programm
 -postdoc/emf-bewertung-schutz-und-vermarktung-von-hochschul-know-how
END:VEVENT
BEGIN:VTIMEZONE
TZID:Europe/Berlin
X-LIC-LOCATION:Europe/Berlin
BEGIN:DAYLIGHT
DTSTART:20180325T030000
TZNAME:CEST
TZOFFSETFROM:+0100
TZOFFSETTO:+0200
END:DAYLIGHT
END:VTIMEZONE
END:VCALENDAR
