BEGIN:VCALENDAR
VERSION:2.0
PRODID:-//Plone.org//NONSGML plone.app.event//EN
X-WR-TIMEZONE:Europe/Berlin
BEGIN:VEVENT
SUMMARY:EMF – Deutsche und europäische Forschungsförderung im Überbli
 ck
DTSTART;TZID=Europe/Berlin:20180526T090000
DTEND;TZID=Europe/Berlin:20180526T163000
DTSTAMP:20260422T005418Z
UID:4123f3b773c24bbbbdaf82e41e3ce6a2@www.uni-marburg.de
ATTENDEE;CN=" Dr. Christine Schmidt";ROLE=REQ-PARTICIPANT: Dr. Christine S
 chmidt
CREATED:20200116T110952Z
DESCRIPTION:https://www.uni-marburg.de/de/mara/aktuelles-mara/events/2018/
 programm-postdoc/emf-deutsche-und-europaeische-forschungsfoerderung-im-ueb
 erblick\n
LAST-MODIFIED:20200116T112221Z
LOCATION:Philipps-Universität Marburg\, MARA\, F|05\, Deutschhausstr. 11+
 13\, 1. OG\, Seminarraum 01.0010
URL:https://www.uni-marburg.de/de/mara/aktuelles-mara/events/2018/programm
 -postdoc/emf-deutsche-und-europaeische-forschungsfoerderung-im-ueberblick
END:VEVENT
BEGIN:VTIMEZONE
TZID:Europe/Berlin
X-LIC-LOCATION:Europe/Berlin
BEGIN:DAYLIGHT
DTSTART:20180325T030000
TZNAME:CEST
TZOFFSETFROM:+0100
TZOFFSETTO:+0200
END:DAYLIGHT
END:VTIMEZONE
END:VCALENDAR
