BEGIN:VCALENDAR
VERSION:2.0
PRODID:-//Plone.org//NONSGML plone.app.event//EN
X-WR-TIMEZONE:Europe/Berlin
BEGIN:VEVENT
SUMMARY:EMF – Grundlagen des Drittmittelrechts
DTSTART;TZID=Europe/Berlin:20180115T090000
DTEND;TZID=Europe/Berlin:20180115T130000
DTSTAMP:20260422T093606Z
UID:1edecb749c094475b4c69ec61395625c@www.uni-marburg.de
ATTENDEE;CN="Dr. Irina Grgić";ROLE=REQ-PARTICIPANT:Dr. Irina Grgić
CREATED:20171211T075108Z
DESCRIPTION:https://www.uni-marburg.de/de/mara/aktuelles-mara/events/2018/
 programm-postdoc/emf-drittmittelrecht-2018-ersatztermin\n
LAST-MODIFIED:20191122T163323Z
LOCATION:Philipps-Universität Marburg\, MARA\, F|05\, Deutschhausstr. 11+
 13\, 1. OG\, Seminarraum 01.0010
URL:https://www.uni-marburg.de/de/mara/aktuelles-mara/events/2018/programm
 -postdoc/emf-drittmittelrecht-2018-ersatztermin
END:VEVENT
BEGIN:VTIMEZONE
TZID:Europe/Berlin
X-LIC-LOCATION:Europe/Berlin
BEGIN:STANDARD
DTSTART:20171029T020000
TZNAME:CET
TZOFFSETFROM:+0200
TZOFFSETTO:+0100
END:STANDARD
END:VTIMEZONE
END:VCALENDAR
