BEGIN:VCALENDAR
VERSION:2.0
PRODID:-//Plone.org//NONSGML plone.app.event//EN
X-WR-TIMEZONE:Europe/Berlin
BEGIN:VEVENT
SUMMARY:EMF - Einführung in das Zertifikatsprogramm
DTSTART;TZID=Europe/Berlin:20180522T100000
DTEND;TZID=Europe/Berlin:20180522T170000
DTSTAMP:20260423T231109Z
UID:629e0fb86e6c457a9a390a712449aaf9@www.uni-marburg.de
ATTENDEE;CN="Dr. Beate Scholz, www.scholz-ctc.de";ROLE=REQ-PARTICIPANT:Dr.
  Beate Scholz, www.scholz-ctc.de
CREATED:20171211T075108Z
DESCRIPTION:https://www.uni-marburg.de/de/mara/aktuelles-mara/events/2018/
 programm-postdoc/emf-einfuehrung-zertifikatsprogramm\nEinführung in das E
 MF-Zertifikatprogramm: Im Programm werden grundlegende Kenntnisse für die
  Entwicklung\, Beantragung und Durchführung von Drittmittelprojekten verm
 ittelt und damit eine der Grundlagen für eine wissenschaftlichen Karriere
  geschaffen.
LAST-MODIFIED:20180507T114232Z
LOCATION:Philipps-Universität Marburg\, MARA\, F|05\, Deutschhausstr. 11+
 13\, 1. OG\, Seminarraum 01.0010
URL:https://www.uni-marburg.de/de/mara/aktuelles-mara/events/2018/programm
 -postdoc/emf-einfuehrung-zertifikatsprogramm
END:VEVENT
BEGIN:VTIMEZONE
TZID:Europe/Berlin
X-LIC-LOCATION:Europe/Berlin
BEGIN:DAYLIGHT
DTSTART:20180325T030000
TZNAME:CEST
TZOFFSETFROM:+0100
TZOFFSETTO:+0200
END:DAYLIGHT
END:VTIMEZONE
END:VCALENDAR
