BEGIN:VCALENDAR
VERSION:2.0
PRODID:-//Plone.org//NONSGML plone.app.event//EN
X-WR-TIMEZONE:Europe/Berlin
BEGIN:VEVENT
SUMMARY:EMF – Fundraising für Wissenschaftler/-innen
DTSTART;TZID=Europe/Berlin:20180910T090000
DTEND;TZID=Europe/Berlin:20180910T170000
DTSTAMP:20260421T111650Z
UID:65290eed81fb41828405a2b4ebfa6ecb@www.uni-marburg.de
ATTENDEE;CN="Dr. Ramona Gresch";ROLE=REQ-PARTICIPANT:Dr. Ramona Gresch
CREATED:20180530T113121Z
DESCRIPTION:https://www.uni-marburg.de/de/mara/aktuelles-mara/events/2018/
 programm-postdoc/emf-fundraising-fuer-wissenschaftler-innen\nDieser Worksh
 op vermittelt Ihnen die Grundlagen der Mitteleinwerbung über Spenden\, Sp
 onsoring sowie Fundraising und gibt Ihnen zielorientierte Methoden für ei
 n erfolgversprechendes Fundraising an die Hand.
LAST-MODIFIED:20200303T093202Z
LOCATION:Philipps-Universität Marburg\, MARA\, F|05\, Deutschhausstr. 11+
 13\, 1. OG\, Seminarraum 01.0010
URL:https://www.uni-marburg.de/de/mara/aktuelles-mara/events/2018/programm
 -postdoc/emf-fundraising-fuer-wissenschaftler-innen
END:VEVENT
BEGIN:VTIMEZONE
TZID:Europe/Berlin
X-LIC-LOCATION:Europe/Berlin
BEGIN:DAYLIGHT
DTSTART:20180325T030000
TZNAME:CEST
TZOFFSETFROM:+0100
TZOFFSETTO:+0200
END:DAYLIGHT
END:VTIMEZONE
END:VCALENDAR
