BEGIN:VCALENDAR
VERSION:2.0
PRODID:-//Plone.org//NONSGML plone.app.event//EN
X-WR-TIMEZONE:Europe/Berlin
BEGIN:VEVENT
SUMMARY:EMF - Grundlagen des Drittmittelrechts
DTSTART;TZID=Europe/Berlin:20180612T090000
DTEND;TZID=Europe/Berlin:20180612T130000
DTSTAMP:20260421T024532Z
UID:1cbcf7af1be1492bbee40152baa2ac0c@www.uni-marburg.de
ATTENDEE;CN="Dr. Irina Grgić";ROLE=REQ-PARTICIPANT:Dr. Irina Grgić
CREATED:20171211T075108Z
DESCRIPTION:https://www.uni-marburg.de/de/mara/aktuelles-mara/events/2018/
 programm-postdoc/emf-grundlagen-des-drittmittelrechts-2018\nDieser Kurs kl
 ärt Sie nicht nur über die rechtlichen Grundlagen von Drittmitteln auf\,
  sondern vermittelt Ihnen auch einen breiten Überblick über steuer-\, st
 raf- und arbeitsrechtliche Aspekte des geltenden Drittmittelrechts.
LAST-MODIFIED:20180509T094516Z
LOCATION:Philipps-Universität Marburg\, MARA\, F|05\, Deutschhausstr. 11+
 13\, 1. OG\, Seminarraum 01.0010
URL:https://www.uni-marburg.de/de/mara/aktuelles-mara/events/2018/programm
 -postdoc/emf-grundlagen-des-drittmittelrechts-2018
END:VEVENT
BEGIN:VTIMEZONE
TZID:Europe/Berlin
X-LIC-LOCATION:Europe/Berlin
BEGIN:DAYLIGHT
DTSTART:20180325T030000
TZNAME:CEST
TZOFFSETFROM:+0100
TZOFFSETTO:+0200
END:DAYLIGHT
END:VTIMEZONE
END:VCALENDAR
