BEGIN:VCALENDAR
VERSION:2.0
PRODID:-//Plone.org//NONSGML plone.app.event//EN
X-WR-TIMEZONE:Europe/Berlin
BEGIN:VEVENT
SUMMARY:EMF – Informationsveranstaltung zum Programm „Entwicklung und 
 Management von Forschungsprojekten"
DTSTART;TZID=Europe/Berlin:20181127T170000
DTEND;TZID=Europe/Berlin:20181127T180000
DTSTAMP:20260423T142816Z
UID:0eae02267cde478aac99d2c65ae4f3f1@www.uni-marburg.de
ATTENDEE;CN="Dr. Christine Berger";ROLE=REQ-PARTICIPANT:Dr. Christine Berg
 er
CREATED:20181018T184907Z
DESCRIPTION:https://www.uni-marburg.de/de/mara/aktuelles-mara/events/2018/
 programm-postdoc/emf-informationsveranstaltung2018\nDiese Informationsvera
 nstaltung erläutert die Ziele sowie den Ablauf des Zertifikatprogramms 
 „Entwicklung und Management von Forschungsprojekten" (EMF) und stellt de
 ssen Module Projektentwicklung und Projektbeantragung\, Projektmanagement\
 , Präsentation von Forschungsprojekten und Transfer vor.
LAST-MODIFIED:20181022T103622Z
LOCATION:Philipps-Universität Marburg\, MARA\, F|05\, Deutschhausstr. 11+
 13\, 1. OG\, Seminarraum 01.0010
URL:https://www.uni-marburg.de/de/mara/aktuelles-mara/events/2018/programm
 -postdoc/emf-informationsveranstaltung2018
END:VEVENT
BEGIN:VTIMEZONE
TZID:Europe/Berlin
X-LIC-LOCATION:Europe/Berlin
BEGIN:STANDARD
DTSTART:20181028T020000
TZNAME:CET
TZOFFSETFROM:+0200
TZOFFSETTO:+0100
END:STANDARD
END:VTIMEZONE
END:VCALENDAR
