BEGIN:VCALENDAR
VERSION:2.0
PRODID:-//Plone.org//NONSGML plone.app.event//EN
X-WR-TIMEZONE:Europe/Berlin
BEGIN:VEVENT
SUMMARY:EMF - Management von Drittmittelprojekten
DTSTART;TZID=Europe/Berlin:20180410T090000
DTEND;TZID=Europe/Berlin:20180411T170000
DTSTAMP:20260424T003141Z
UID:312b7ade26194986b853cf19abed96f0@www.uni-marburg.de
ATTENDEE;CN="Dr. Alexander Schiller, www.schillermertens.de";ROLE=REQ-PART
 ICIPANT:Dr. Alexander Schiller, www.schillermertens.de
CREATED:20171211T075108Z
DESCRIPTION:https://www.uni-marburg.de/de/mara/aktuelles-mara/events/2018/
 programm-postdoc/emf-projektmanagement\nLernen Sie effektive und praktisch
  anwendbare Methoden zur Planung\, Durchführung und Steuerung von Drittmi
 ttelprojekten in der Wissenschaft kennen.
LAST-MODIFIED:20180409T090411Z
LOCATION:Philipps-Universität Marburg\, MARA\, F|05\, Deutschhausstr. 11+
 13\, 1. OG\, Seminarraum 01.0010
URL:https://www.uni-marburg.de/de/mara/aktuelles-mara/events/2018/programm
 -postdoc/emf-projektmanagement
END:VEVENT
BEGIN:VTIMEZONE
TZID:Europe/Berlin
X-LIC-LOCATION:Europe/Berlin
BEGIN:DAYLIGHT
DTSTART:20180325T030000
TZNAME:CEST
TZOFFSETFROM:+0100
TZOFFSETTO:+0200
END:DAYLIGHT
END:VTIMEZONE
END:VCALENDAR
