BEGIN:VCALENDAR
VERSION:2.0
PRODID:-//Plone.org//NONSGML plone.app.event//EN
X-WR-TIMEZONE:Europe/Berlin
BEGIN:VEVENT
SUMMARY:International Teamwork – Facilitating Cooperation in Internation
 al Environments
DTSTART;TZID=Europe/Berlin:20180901T090000
DTEND;TZID=Europe/Berlin:20180901T170000
DTSTAMP:20260424T025453Z
UID:5ca5d217e22a4c2f9d489e937444c270@www.uni-marburg.de
ATTENDEE;CN="Dr. Christine Issa";ROLE=REQ-PARTICIPANT:Dr. Christine Issa
CREATED:20180612T084027Z
DESCRIPTION:https://www.uni-marburg.de/de/mara/aktuelles-mara/events/2018/
 programm-postdoc/international-teamwork\nIn this course you will gain a fl
 exible skill set of leadership and intervention methods for constructive c
 ollaboration in intercultural teams.
LAST-MODIFIED:20180612T094224Z
LOCATION:Philipps-Universität Marburg\, MARA F|05\, Deutschhausstraße 11
 +13 Seminar room 01.0010
URL:https://www.uni-marburg.de/de/mara/aktuelles-mara/events/2018/programm
 -postdoc/international-teamwork
END:VEVENT
BEGIN:VTIMEZONE
TZID:Europe/Berlin
X-LIC-LOCATION:Europe/Berlin
BEGIN:DAYLIGHT
DTSTART:20180325T030000
TZNAME:CEST
TZOFFSETFROM:+0100
TZOFFSETTO:+0200
END:DAYLIGHT
END:VTIMEZONE
END:VCALENDAR
