BEGIN:VCALENDAR
VERSION:2.0
PRODID:-//Plone.org//NONSGML plone.app.event//EN
X-WR-TIMEZONE:Europe/Berlin
BEGIN:VEVENT
SUMMARY:Jobinterviewtraining für Postdocs
DTSTART;TZID=Europe/Berlin:20180504T090000
DTEND;TZID=Europe/Berlin:20180504T170000
DTSTAMP:20260423T231110Z
UID:0c1551be395646b38ea7148aa3352530@www.uni-marburg.de
ATTENDEE;CN="Prof. Dr. Daniel Wrede, www.danielwre.de";ROLE=REQ-PARTICIPAN
 T:Prof. Dr. Daniel Wrede, www.danielwre.de
CREATED:20200115T092231Z
DESCRIPTION:https://www.uni-marburg.de/de/mara/aktuelles-mara/events/2018/
 programm-postdoc/jobinterviewtraining-fuer-postdocs\n
LAST-MODIFIED:20200115T093445Z
LOCATION:Philipps-Universität Marburg\, MARA\, F|05\, Deutschhausstr. 11+
 13\, 1. OG\, Seminarraum 01.0010
URL:https://www.uni-marburg.de/de/mara/aktuelles-mara/events/2018/programm
 -postdoc/jobinterviewtraining-fuer-postdocs
END:VEVENT
BEGIN:VTIMEZONE
TZID:Europe/Berlin
X-LIC-LOCATION:Europe/Berlin
BEGIN:DAYLIGHT
DTSTART:20180325T030000
TZNAME:CEST
TZOFFSETFROM:+0100
TZOFFSETTO:+0200
END:DAYLIGHT
END:VTIMEZONE
END:VCALENDAR
