BEGIN:VCALENDAR
VERSION:2.0
PRODID:-//Plone.org//NONSGML plone.app.event//EN
X-WR-TIMEZONE:Europe/Berlin
BEGIN:VEVENT
SUMMARY:Karriereentwicklung für Postdocs - Personalauswahl und -führung 
 in der Wissenschaft
DTSTART;TZID=Europe/Berlin:20180306T100000
DTEND;TZID=Europe/Berlin:20180307T170000
DTSTAMP:20260419T231916Z
UID:403a8618ae8f4cb4a1567ceb14f8e884@www.uni-marburg.de
ATTENDEE;CN="Dr. Matthias Schwarzkopf, www.coaching-schwarzkopf.de";ROLE=R
 EQ-PARTICIPANT:Dr. Matthias Schwarzkopf, www.coaching-schwarzkopf.de
CREATED:20171211T075108Z
DESCRIPTION:https://www.uni-marburg.de/de/mara/aktuelles-mara/events/2018/
 programm-postdoc/karriereentwicklung-personalauswahl\nIn diesem Workshop l
 ernen Sie die Grundlagen der Personalauswahl und der Personalführung in d
 er Wissenschaft kennen.
LAST-MODIFIED:20171211T084055Z
LOCATION:Philipps-Universität Marburg\, MARA\, F|05\, Deutschhausstr. 11+
 13\, 1. OG\, Seminarraum 01.0010
URL:https://www.uni-marburg.de/de/mara/aktuelles-mara/events/2018/programm
 -postdoc/karriereentwicklung-personalauswahl
END:VEVENT
BEGIN:VTIMEZONE
TZID:Europe/Berlin
X-LIC-LOCATION:Europe/Berlin
BEGIN:STANDARD
DTSTART:20171029T020000
TZNAME:CET
TZOFFSETFROM:+0200
TZOFFSETTO:+0100
END:STANDARD
END:VTIMEZONE
END:VCALENDAR
