BEGIN:VCALENDAR
VERSION:2.0
PRODID:-//Plone.org//NONSGML plone.app.event//EN
X-WR-TIMEZONE:Europe/Berlin
BEGIN:VEVENT
SUMMARY:Voice and Speech Training
DTSTART;TZID=Europe/Berlin:20180929T100000
DTEND;TZID=Europe/Berlin:20180929T173000
DTSTAMP:20260423T185739Z
UID:72fbbea28bcd44b6932bf25b28ce18ae@www.uni-marburg.de
ATTENDEE;CN="Dr. Stefanie Rummel, www.stefanierummel.com";ROLE=REQ-PARTICI
 PANT:Dr. Stefanie Rummel, www.stefanierummel.com
CREATED:20180606T113709Z
DESCRIPTION:https://www.uni-marburg.de/de/mara/aktuelles-mara/events/2018/
 programm-postdoc/voice-and-speech-training\nIn this workshop you learn how
  to articulate your voice more clearly in order to get through vocally in 
 a meeting or lecture.
LAST-MODIFIED:20180612T093503Z
LOCATION:Philipps-Universität Marburg\, MARA\, F|05\, Deutschhausstraße 
 11+13 Seminar room 01.0010
URL:https://www.uni-marburg.de/de/mara/aktuelles-mara/events/2018/programm
 -postdoc/voice-and-speech-training
END:VEVENT
BEGIN:VTIMEZONE
TZID:Europe/Berlin
X-LIC-LOCATION:Europe/Berlin
BEGIN:DAYLIGHT
DTSTART:20180325T030000
TZNAME:CEST
TZOFFSETFROM:+0100
TZOFFSETTO:+0200
END:DAYLIGHT
END:VTIMEZONE
END:VCALENDAR
