BEGIN:VCALENDAR
VERSION:2.0
PRODID:-//Plone.org//NONSGML plone.app.event//EN
X-WR-TIMEZONE:Europe/Berlin
BEGIN:VEVENT
SUMMARY:Winter School – Erfolgreich gründen!
DTSTART;TZID=Europe/Berlin:20180108T100000
DTEND;TZID=Europe/Berlin:20180111T183000
DTSTAMP:20260423T190024Z
UID:4a58711843004b1d882494243e7694a9@www.uni-marburg.de
ATTENDEE;CN="Christian Rötz, Julian Winter, Katja John, u. a.";ROLE=REQ-P
 ARTICIPANT:Christian Rötz, Julian Winter, Katja John, u. a.
CREATED:20180507T090324Z
DESCRIPTION:https://www.uni-marburg.de/de/mara/aktuelles-mara/events/2018/
 programm-postdoc/winter-school-erfolgreich-gruenden\n
LAST-MODIFIED:20191121T180243Z
LOCATION:Philipps-Universität Marburg\, MARA F|05\, Deutschhausstraße 11
 +13 Seminarräume 01.0010 und 01.0030
URL:https://www.uni-marburg.de/de/mara/aktuelles-mara/events/2018/programm
 -postdoc/winter-school-erfolgreich-gruenden
END:VEVENT
BEGIN:VTIMEZONE
TZID:Europe/Berlin
X-LIC-LOCATION:Europe/Berlin
BEGIN:STANDARD
DTSTART:20171029T020000
TZNAME:CET
TZOFFSETFROM:+0200
TZOFFSETTO:+0100
END:STANDARD
END:VTIMEZONE
END:VCALENDAR
